BEGIN:VCALENDAR
VERSION:2.0
PRODID:-//horsealert.local//NONSGML kigkonsult.se iCalcreator 2.10.5//
CALSCALE:GREGORIAN
X-WR-TIMEZONE:Europe/Dublin
BEGIN:VTIMEZONE
TZID:Etc/GMT-1
BEGIN:STANDARD
DTSTART:20010101T000000
TZOFFSETFROM:+0100
TZOFFSETTO:+0100
TZNAME:GMT +01:00
END:STANDARD
END:VTIMEZONE
BEGIN:VEVENT
UID:20260419T220451CEST-8468klMFzK@horsealert.local
DTSTAMP:20260419T200451Z
CATEGORIES:Horse Alerts
DESCRIPTION:Monthly Artisan Craft Fayres Lakeside Village Handicap
DTSTART:20230701T210000
LOCATION:England
SUMMARY:Horse Racing:Monthly Artisan Craft Fayres Lakeside Village Handicap
END:VEVENT
END:VCALENDAR
