BEGIN:VCALENDAR
VERSION:2.0
PRODID:-//horsealert.local//NONSGML kigkonsult.se iCalcreator 2.10.5//
CALSCALE:GREGORIAN
X-WR-TIMEZONE:Europe/Dublin
BEGIN:VTIMEZONE
TZID:Etc/GMT-1
BEGIN:STANDARD
DTSTART:20010101T000000
TZOFFSETFROM:+0100
TZOFFSETTO:+0100
TZNAME:GMT +01:00
END:STANDARD
END:VTIMEZONE
BEGIN:VEVENT
UID:20260419T220413CEST-5631l7CKBj@horsealert.local
DTSTAMP:20260419T200413Z
CATEGORIES:Horse Alerts
DESCRIPTION:Ornella Underwriting Ltd Bloodstock & Equine Insurance Irish Eu
 ropean Breeders Fund Median Auction Maiden
DTSTART:20230701T171000
LOCATION:Eire
SUMMARY:Horse Racing:Ornella Underwriting Ltd Bloodstock & Equine Insurance
  Irish European Breeders Fund Median Auction Maiden
END:VEVENT
END:VCALENDAR
