BEGIN:VCALENDAR
VERSION:2.0
PRODID:-//horsealert.local//NONSGML kigkonsult.se iCalcreator 2.10.5//
CALSCALE:GREGORIAN
X-WR-TIMEZONE:Europe/Dublin
BEGIN:VTIMEZONE
TZID:Etc/GMT-1
BEGIN:STANDARD
DTSTART:20010101T000000
TZOFFSETFROM:+0100
TZOFFSETTO:+0100
TZNAME:GMT +01:00
END:STANDARD
END:VTIMEZONE
BEGIN:VEVENT
UID:20260419T221000CEST-3701ng8dtu@horsealert.local
DTSTAMP:20260419T200400Z
CATEGORIES:Horse Alerts
DESCRIPTION:Medic Kingdom Handicap
DTSTART:20230716T113000
LOCATION:Hong Kong
SUMMARY:Horse Racing:Medic Kingdom Handicap
END:VEVENT
END:VCALENDAR
