BEGIN:VCALENDAR
VERSION:2.0
PRODID:-//horsealert.local//NONSGML kigkonsult.se iCalcreator 2.10.5//
CALSCALE:GREGORIAN
X-WR-TIMEZONE:Europe/Dublin
BEGIN:VTIMEZONE
TZID:Etc/GMT-1
BEGIN:STANDARD
DTSTART:20010101T000000
TZOFFSETFROM:+0100
TZOFFSETTO:+0100
TZNAME:GMT +01:00
END:STANDARD
END:VTIMEZONE
BEGIN:VEVENT
UID:20260419T220153CEST-7068rrrvve@horsealert.local
DTSTAMP:20260419T200453Z
CATEGORIES:Horse Alerts
DESCRIPTION:William Hill Extra Place Races Daily Racing League Race 1 Nurse
 ry
DTSTART:20230727T173000
LOCATION:England
SUMMARY:Horse Racing:William Hill Extra Place Races Daily Racing League Rac
 e 1 Nursery
END:VEVENT
END:VCALENDAR
