BEGIN:VCALENDAR
VERSION:2.0
PRODID:-//horsealert.local//NONSGML kigkonsult.se iCalcreator 2.10.5//
CALSCALE:GREGORIAN
X-WR-TIMEZONE:Europe/Dublin
BEGIN:VTIMEZONE
TZID:Etc/GMT-1
BEGIN:STANDARD
DTSTART:20010101T000000
TZOFFSETFROM:+0100
TZOFFSETTO:+0100
TZNAME:GMT +01:00
END:STANDARD
END:VTIMEZONE
BEGIN:VEVENT
UID:20260419T202709CEST-6099xZAeeS@horsealert.local
DTSTAMP:20260419T180409Z
CATEGORIES:Horse Alerts
DESCRIPTION:4Racing Thanks And Appreciates Sean Tarry Racing Fm 76 Handicap
  (F & M)
DTSTART:20230801T121500
LOCATION:South Africa
SUMMARY:Horse Racing:4Racing Thanks And Appreciates Sean Tarry Racing Fm 76
  Handicap (F & M)
END:VEVENT
END:VCALENDAR
