BEGIN:VCALENDAR
VERSION:2.0
PRODID:-//horsealert.local//NONSGML kigkonsult.se iCalcreator 2.10.5//
CALSCALE:GREGORIAN
X-WR-TIMEZONE:Europe/Dublin
BEGIN:VTIMEZONE
TZID:Etc/GMT-1
BEGIN:STANDARD
DTSTART:20010101T000000
TZOFFSETFROM:+0100
TZOFFSETTO:+0100
TZNAME:GMT +01:00
END:STANDARD
END:VTIMEZONE
BEGIN:VEVENT
UID:20260419T202722CEST-360519VTUs@horsealert.local
DTSTAMP:20260419T180422Z
CATEGORIES:Horse Alerts
DESCRIPTION:Gros Billot Claiming Hurdle
DTSTART:20230807T154300
LOCATION:France
SUMMARY:Horse Racing:Gros Billot Claiming Hurdle
END:VEVENT
END:VCALENDAR
