BEGIN:VCALENDAR
VERSION:2.0
PRODID:-//horsealert.local//NONSGML kigkonsult.se iCalcreator 2.10.5//
CALSCALE:GREGORIAN
X-WR-TIMEZONE:Europe/Dublin
BEGIN:VTIMEZONE
TZID:Etc/GMT-1
BEGIN:STANDARD
DTSTART:20010101T000000
TZOFFSETFROM:+0100
TZOFFSETTO:+0100
TZNAME:GMT +01:00
END:STANDARD
END:VTIMEZONE
BEGIN:VEVENT
UID:20260419T220957CEST-0012u7sUf4@horsealert.local
DTSTAMP:20260419T200457Z
CATEGORIES:Horse Alerts
DESCRIPTION:4Racing Thanks And Appreciates Brett Warren Mr 96 Handicap
DTSTART:20230810T134500
LOCATION:South Africa
SUMMARY:Horse Racing:4Racing Thanks And Appreciates Brett Warren Mr 96 Hand
 icap
END:VEVENT
END:VCALENDAR
