BEGIN:VCALENDAR
VERSION:2.0
PRODID:-//horsealert.local//NONSGML kigkonsult.se iCalcreator 2.10.5//
CALSCALE:GREGORIAN
X-WR-TIMEZONE:Europe/Dublin
BEGIN:VTIMEZONE
TZID:Etc/GMT-1
BEGIN:STANDARD
DTSTART:20010101T000000
TZOFFSETFROM:+0100
TZOFFSETTO:+0100
TZNAME:GMT +01:00
END:STANDARD
END:VTIMEZONE
BEGIN:VEVENT
UID:20260419T203009CEST-9539u8lzVz@horsealert.local
DTSTAMP:20260419T180409Z
CATEGORIES:Horse Alerts
DESCRIPTION:Bowness Bay Brewing Conditional Jockeys' Handicap Hurdle (Div 2
 )
DTSTART:20230826T170600
LOCATION:England
SUMMARY:Horse Racing:Bowness Bay Brewing Conditional Jockeys' Handicap Hurd
 le (Div 2)
END:VEVENT
END:VCALENDAR
