BEGIN:VCALENDAR
VERSION:2.0
PRODID:-//horsealert.local//NONSGML kigkonsult.se iCalcreator 2.10.5//
CALSCALE:GREGORIAN
X-WR-TIMEZONE:Europe/Dublin
BEGIN:VTIMEZONE
TZID:Etc/GMT-1
BEGIN:STANDARD
DTSTART:20010101T000000
TZOFFSETFROM:+0100
TZOFFSETTO:+0100
TZNAME:GMT +01:00
END:STANDARD
END:VTIMEZONE
BEGIN:VEVENT
UID:20260419T202730CEST-1102Dx1VJT@horsealert.local
DTSTAMP:20260419T180430Z
CATEGORIES:Horse Alerts
DESCRIPTION:Prix Cance'run - Credit Agri Centre France - Attele
DTSTART:20230829T171800
LOCATION:France
SUMMARY:Horse Racing:Prix Cance'run - Credit Agri Centre France - Attele
END:VEVENT
END:VCALENDAR
