BEGIN:VCALENDAR
VERSION:2.0
PRODID:-//horsealert.local//NONSGML kigkonsult.se iCalcreator 2.10.5//
CALSCALE:GREGORIAN
X-WR-TIMEZONE:Europe/Dublin
BEGIN:VTIMEZONE
TZID:Etc/GMT-1
BEGIN:STANDARD
DTSTART:20010101T000000
TZOFFSETFROM:+0100
TZOFFSETTO:+0100
TZNAME:GMT +01:00
END:STANDARD
END:VTIMEZONE
BEGIN:VEVENT
UID:20260419T185840CEST-3993imVXAx@horsealert.local
DTSTAMP:20260419T160440Z
CATEGORIES:Horse Alerts
DESCRIPTION:Prostate Cymru Rees Richards & Partners Handicap
DTSTART:20230901T192000
LOCATION:Wales
SUMMARY:Horse Racing:Prostate Cymru Rees Richards & Partners Handicap
END:VEVENT
END:VCALENDAR
