BEGIN:VCALENDAR
VERSION:2.0
PRODID:-//horsealert.local//NONSGML kigkonsult.se iCalcreator 2.10.5//
CALSCALE:GREGORIAN
X-WR-TIMEZONE:Europe/Dublin
BEGIN:VTIMEZONE
TZID:Etc/GMT-1
BEGIN:STANDARD
DTSTART:20010101T000000
TZOFFSETFROM:+0100
TZOFFSETTO:+0100
TZNAME:GMT +01:00
END:STANDARD
END:VTIMEZONE
BEGIN:VEVENT
UID:20260419T190129CEST-2511mOiCXb@horsealert.local
DTSTAMP:20260419T170429Z
CATEGORIES:Horse Alerts
DESCRIPTION:Des Platanes Listed Hurdle
DTSTART:20230901T144200
LOCATION:France
SUMMARY:Horse Racing:Des Platanes Listed Hurdle
END:VEVENT
END:VCALENDAR
