BEGIN:VCALENDAR
VERSION:2.0
PRODID:-//horsealert.local//NONSGML kigkonsult.se iCalcreator 2.10.5//
CALSCALE:GREGORIAN
X-WR-TIMEZONE:Europe/Dublin
BEGIN:VTIMEZONE
TZID:Etc/GMT-1
BEGIN:STANDARD
DTSTART:20010101T000000
TZOFFSETFROM:+0100
TZOFFSETTO:+0100
TZNAME:GMT +01:00
END:STANDARD
END:VTIMEZONE
BEGIN:VEVENT
UID:20260419T202306CEST-3663ELrfo5@horsealert.local
DTSTAMP:20260419T180406Z
CATEGORIES:Horse Alerts
DESCRIPTION:Equus Groom Of The Horse Of The Year: Mzwandile Julias Siqila M
 r 82 Handicap
DTSTART:20230907T142500
LOCATION:South Africa
SUMMARY:Horse Racing:Equus Groom Of The Horse Of The Year: Mzwandile Julias
  Siqila Mr 82 Handicap
END:VEVENT
END:VCALENDAR
