BEGIN:VCALENDAR
VERSION:2.0
PRODID:-//horsealert.local//NONSGML kigkonsult.se iCalcreator 2.10.5//
CALSCALE:GREGORIAN
X-WR-TIMEZONE:Europe/Dublin
BEGIN:VTIMEZONE
TZID:Etc/GMT-1
BEGIN:STANDARD
DTSTART:20010101T000000
TZOFFSETFROM:+0100
TZOFFSETTO:+0100
TZNAME:GMT +01:00
END:STANDARD
END:VTIMEZONE
BEGIN:VEVENT
UID:20260419T185758CEST-2063vpM44s@horsealert.local
DTSTAMP:20260419T160458Z
CATEGORIES:Horse Alerts
DESCRIPTION:Ardilaun Hotel Irish EBF Oyster Stakes (Fillies' And Mares' Lis
 ted)
DTSTART:20230912T182500
LOCATION:Eire
SUMMARY:Horse Racing:Ardilaun Hotel Irish EBF Oyster Stakes (Fillies' And M
 ares' Listed)
END:VEVENT
END:VCALENDAR
