BEGIN:VCALENDAR
VERSION:2.0
PRODID:-//horsealert.local//NONSGML kigkonsult.se iCalcreator 2.10.5//
CALSCALE:GREGORIAN
X-WR-TIMEZONE:Europe/Dublin
BEGIN:VTIMEZONE
TZID:Etc/GMT-1
BEGIN:STANDARD
DTSTART:20010101T000000
TZOFFSETFROM:+0100
TZOFFSETTO:+0100
TZNAME:GMT +01:00
END:STANDARD
END:VTIMEZONE
BEGIN:VEVENT
UID:20260419T185634CEST-7741IGrfP4@horsealert.local
DTSTAMP:20260419T160434Z
CATEGORIES:Horse Alerts
DESCRIPTION:Scott Leather 50th Birthday Handicap
DTSTART:20230923T160500
LOCATION:England
SUMMARY:Horse Racing:Scott Leather 50th Birthday Handicap
END:VEVENT
END:VCALENDAR
