BEGIN:VCALENDAR
VERSION:2.0
PRODID:-//horsealert.local//NONSGML kigkonsult.se iCalcreator 2.10.5//
CALSCALE:GREGORIAN
X-WR-TIMEZONE:Europe/Dublin
BEGIN:VTIMEZONE
TZID:Etc/GMT-1
BEGIN:STANDARD
DTSTART:20010101T000000
TZOFFSETFROM:+0100
TZOFFSETTO:+0100
TZNAME:GMT +01:00
END:STANDARD
END:VTIMEZONE
BEGIN:VEVENT
UID:20260419T185757CEST-8816vApIFV@horsealert.local
DTSTAMP:20260419T160457Z
CATEGORIES:Horse Alerts
DESCRIPTION:Grassroots Series Mile Final Handicap
DTSTART:20230926T173500
LOCATION:England
SUMMARY:Horse Racing:Grassroots Series Mile Final Handicap
END:VEVENT
END:VCALENDAR
