BEGIN:VCALENDAR
VERSION:2.0
PRODID:-//horsealert.local//NONSGML kigkonsult.se iCalcreator 2.10.5//
CALSCALE:GREGORIAN
X-WR-TIMEZONE:Europe/Dublin
BEGIN:VTIMEZONE
TZID:Etc/GMT-1
BEGIN:STANDARD
DTSTART:20010101T000000
TZOFFSETFROM:+0100
TZOFFSETTO:+0100
TZNAME:GMT +01:00
END:STANDARD
END:VTIMEZONE
BEGIN:VEVENT
UID:20260419T190152CEST-5963vK5S78@horsealert.local
DTSTAMP:20260419T170452Z
CATEGORIES:Horse Alerts
DESCRIPTION:Thank You To Our Groundstaff Handicap
DTSTART:20230930T171500
LOCATION:England
SUMMARY:Horse Racing:Thank You To Our Groundstaff Handicap
END:VEVENT
END:VCALENDAR
