BEGIN:VCALENDAR
VERSION:2.0
PRODID:-//horsealert.local//NONSGML kigkonsult.se iCalcreator 2.10.5//
CALSCALE:GREGORIAN
X-WR-TIMEZONE:Europe/Dublin
BEGIN:VTIMEZONE
TZID:Etc/GMT-1
BEGIN:STANDARD
DTSTART:20010101T000000
TZOFFSETFROM:+0100
TZOFFSETTO:+0100
TZNAME:GMT +01:00
END:STANDARD
END:VTIMEZONE
BEGIN:VEVENT
UID:20260419T173314CEST-0942jJcFKv@horsealert.local
DTSTAMP:20260419T150414Z
CATEGORIES:Horse Alerts
DESCRIPTION:Fireworks 5th November Handicap
DTSTART:20231012T203000
LOCATION:England
SUMMARY:Horse Racing:Fireworks 5th November Handicap
END:VEVENT
END:VCALENDAR
