BEGIN:VCALENDAR
VERSION:2.0
PRODID:-//horsealert.local//NONSGML kigkonsult.se iCalcreator 2.10.5//
CALSCALE:GREGORIAN
X-WR-TIMEZONE:Europe/Dublin
BEGIN:VTIMEZONE
TZID:Etc/GMT-1
BEGIN:STANDARD
DTSTART:20010101T000000
TZOFFSETFROM:+0100
TZOFFSETTO:+0100
TZNAME:GMT +01:00
END:STANDARD
END:VTIMEZONE
BEGIN:VEVENT
UID:20260419T173611CEST-0882rpwWi8@horsealert.local
DTSTAMP:20260419T150411Z
CATEGORIES:Horse Alerts
DESCRIPTION:Paxtons No1 CaseIH Dealer In UK&Ireland Maiden Hurdle (GBB Race
 )
DTSTART:20231022T155000
LOCATION:England
SUMMARY:Horse Racing:Paxtons No1 CaseIH Dealer In UK&Ireland Maiden Hurdle 
 (GBB Race)
END:VEVENT
END:VCALENDAR
