BEGIN:VCALENDAR
VERSION:2.0
PRODID:-//horsealert.local//NONSGML kigkonsult.se iCalcreator 2.10.5//
CALSCALE:GREGORIAN
X-WR-TIMEZONE:Europe/Dublin
BEGIN:VTIMEZONE
TZID:Etc/GMT-1
BEGIN:STANDARD
DTSTART:20010101T000000
TZOFFSETFROM:+0100
TZOFFSETTO:+0100
TZNAME:GMT +01:00
END:STANDARD
END:VTIMEZONE
BEGIN:VEVENT
UID:20260419T155549CEST-6021u4vClZ@horsealert.local
DTSTAMP:20260419T130449Z
CATEGORIES:Horse Alerts
DESCRIPTION:Racing TV/British EBF Fillies' Novice Stakes (GBB Race)
DTSTART:20231106T140000
LOCATION:England
SUMMARY:Horse Racing:Racing TV/British EBF Fillies' Novice Stakes (GBB Race
 )
END:VEVENT
END:VCALENDAR
