BEGIN:VCALENDAR
VERSION:2.0
PRODID:-//horsealert.local//NONSGML kigkonsult.se iCalcreator 2.10.5//
CALSCALE:GREGORIAN
X-WR-TIMEZONE:Europe/Dublin
BEGIN:VTIMEZONE
TZID:Etc/GMT-1
BEGIN:STANDARD
DTSTART:20010101T000000
TZOFFSETFROM:+0100
TZOFFSETTO:+0100
TZNAME:GMT +01:00
END:STANDARD
END:VTIMEZONE
BEGIN:VEVENT
UID:20260419T155318CEST-8352VV5tZP@horsealert.local
DTSTAMP:20260419T130418Z
CATEGORIES:Horse Alerts
DESCRIPTION:Betway Summer Cup Book Your Table 0116811796 Maiden Plate (F & 
 M)
DTSTART:20231112T114500
LOCATION:South Africa
SUMMARY:Horse Racing:Betway Summer Cup Book Your Table 0116811796 Maiden Pl
 ate (F & M)
END:VEVENT
END:VCALENDAR
