BEGIN:VCALENDAR
VERSION:2.0
PRODID:-//horsealert.local//NONSGML kigkonsult.se iCalcreator 2.10.5//
CALSCALE:GREGORIAN
X-WR-TIMEZONE:Europe/Dublin
BEGIN:VTIMEZONE
TZID:Etc/GMT-1
BEGIN:STANDARD
DTSTART:20010101T000000
TZOFFSETFROM:+0100
TZOFFSETTO:+0100
TZNAME:GMT +01:00
END:STANDARD
END:VTIMEZONE
BEGIN:VEVENT
UID:20260419T155403CEST-64794KTfx1@horsealert.local
DTSTAMP:20260419T130403Z
CATEGORIES:Horse Alerts
DESCRIPTION:Pas De Calais Handicap
DTSTART:20231113T152700
LOCATION:France
SUMMARY:Horse Racing:Pas De Calais Handicap
END:VEVENT
END:VCALENDAR
