BEGIN:VCALENDAR
VERSION:2.0
PRODID:-//horsealert.local//NONSGML kigkonsult.se iCalcreator 2.10.5//
CALSCALE:GREGORIAN
X-WR-TIMEZONE:Europe/Dublin
BEGIN:VTIMEZONE
TZID:Etc/GMT-1
BEGIN:STANDARD
DTSTART:20010101T000000
TZOFFSETFROM:+0100
TZOFFSETTO:+0100
TZNAME:GMT +01:00
END:STANDARD
END:VTIMEZONE
BEGIN:VEVENT
UID:20260419T155859CEST-0695eHCwjk@horsealert.local
DTSTAMP:20260419T130459Z
CATEGORIES:Horse Alerts
DESCRIPTION:Grand National Du Trot - Jacques Brion - Attele
DTSTART:20231122T125500
LOCATION:France
SUMMARY:Horse Racing:Grand National Du Trot - Jacques Brion - Attele
END:VEVENT
END:VCALENDAR
