BEGIN:VCALENDAR
VERSION:2.0
PRODID:-//horsealert.local//NONSGML kigkonsult.se iCalcreator 2.10.5//
CALSCALE:GREGORIAN
X-WR-TIMEZONE:Europe/Dublin
BEGIN:VTIMEZONE
TZID:Etc/GMT-1
BEGIN:STANDARD
DTSTART:20010101T000000
TZOFFSETFROM:+0100
TZOFFSETTO:+0100
TZNAME:GMT +01:00
END:STANDARD
END:VTIMEZONE
BEGIN:VEVENT
UID:20260419T142635CEST-9406TnNkFE@horsealert.local
DTSTAMP:20260419T120435Z
CATEGORIES:Horse Alerts
DESCRIPTION:Stay Golden With BetMGM Safer Gambling EBF Fillies' Novice Stak
 es (GBB Race)
DTSTART:20231222T184500
LOCATION:England
SUMMARY:Horse Racing:Stay Golden With BetMGM Safer Gambling EBF Fillies' No
 vice Stakes (GBB Race)
END:VEVENT
END:VCALENDAR
