BEGIN:VCALENDAR
VERSION:2.0
PRODID:-//horsealert.local//NONSGML kigkonsult.se iCalcreator 2.10.5//
CALSCALE:GREGORIAN
X-WR-TIMEZONE:Europe/Dublin
BEGIN:VTIMEZONE
TZID:Etc/GMT-1
BEGIN:STANDARD
DTSTART:20010101T000000
TZOFFSETFROM:+0100
TZOFFSETTO:+0100
TZNAME:GMT +01:00
END:STANDARD
END:VTIMEZONE
BEGIN:VEVENT
UID:20260421T113122CEST-5156z1nnbr@horsealert.local
DTSTAMP:20260421T090422Z
CATEGORIES:Horse Alerts
DESCRIPTION:Carlisle Racing Again On 7th March Handicap Hurdle
DTSTART:20240219T171000
LOCATION:England
SUMMARY:Horse Racing:Carlisle Racing Again On 7th March Handicap Hurdle
END:VEVENT
END:VCALENDAR
