BEGIN:VCALENDAR
VERSION:2.0
PRODID:-//horsealert.local//NONSGML kigkonsult.se iCalcreator 2.10.5//
CALSCALE:GREGORIAN
X-WR-TIMEZONE:Europe/Dublin
BEGIN:VTIMEZONE
TZID:Etc/GMT-1
BEGIN:STANDARD
DTSTART:20010101T000000
TZOFFSETFROM:+0100
TZOFFSETTO:+0100
TZNAME:GMT +01:00
END:STANDARD
END:VTIMEZONE
BEGIN:VEVENT
UID:20260421T110731CEST-9631rLCxip@horsealert.local
DTSTAMP:20260421T090431Z
CATEGORIES:Horse Alerts
DESCRIPTION:Grand Prix Du Printemps - Attele
DTSTART:20240316T161700
LOCATION:France
SUMMARY:Horse Racing:Grand Prix Du Printemps - Attele
END:VEVENT
END:VCALENDAR
